BEGIN:VCALENDAR
VERSION:2.0
PRODID:-//Plone.org//NONSGML plone.app.event//EN
X-WR-TIMEZONE:Europe/Madrid
BEGIN:VEVENT
SUMMARY:L'ACOMPANYAMENT DELS FAMILIARS CUIDADORS DE MALALTS DE CÀNCER
DTSTART;TZID=Europe/Madrid;VALUE=DATE-TIME:20181211T190000
DTEND;TZID=Europe/Madrid;VALUE=DATE-TIME:20181211T200000
DTSTAMP;VALUE=DATE-TIME:20260426T003337Z
UID:27f3bfc24677292d588b77ec228a5dea
CREATED;VALUE=DATE-TIME:20181211T000000Z
CATEGORIES:Conferència
LOCATION:Centre Cívic - Esperança, 19
ORGANIZER:AECC
COMMENT:Col·labora: Ajuntament de Premià de Mar
Institut Català de la Salut
DESCRIPTION:Xerrada a càrrec de: Carme Cortés, Psiconcòloga de l'AEEC Catalunya Contra el Càncer i Dra. Amèlia Quilez , del Centre d'Atenció Primària de Premià de Mar
URL:https://premiademar.cat/document.php?id=14672
END:VEVENT
END:VCALENDAR