BEGIN:VCALENDAR
VERSION:2.0
PRODID:-//Plone.org//NONSGML plone.app.event//EN
X-WR-TIMEZONE:Europe/Madrid
BEGIN:VEVENT
SUMMARY:Vells i nous masclismes: la igualtat de gènere un repte pendent
DTSTART;TZID=Europe/Madrid;VALUE=DATE-TIME:20190205T183000
DTEND;TZID=Europe/Madrid;VALUE=DATE-TIME:20190205T193000
DTSTAMP;VALUE=DATE-TIME:20260424T141020Z
UID:77166c63823728cf7428db78e07617c4
CREATED;VALUE=DATE-TIME:20190205T000000Z
CATEGORIES:Conferència
LOCATION:Biblioteca Martí Rosselló i Lloveras - Carretera de Vilassar de Dalt, 100
ORGANIZER:Àgora . Informació, anàlisi, debatCreixent
COMMENT:Durada: De 18:30 a 20:15h
DESCRIPTION:A càrrec de Lluís Soler Alsina
URL:https://premiademar.cat/document.php?id=14878
END:VEVENT
END:VCALENDAR