BEGIN:VCALENDAR
VERSION:2.0
PRODID:-//Plone.org//NONSGML plone.app.event//EN
X-WR-TIMEZONE:Europe/Madrid
BEGIN:VEVENT
SUMMARY:Lectures en veu alta
DTSTART;TZID=Europe/Madrid;VALUE=DATE-TIME:20190219T121500
DTEND;TZID=Europe/Madrid;VALUE=DATE-TIME:20190219T131500
DTSTAMP;VALUE=DATE-TIME:20260424T140951Z
UID:6ab9b14edaeb62a60ed61aba48a914cf
CREATED;VALUE=DATE-TIME:20190205T000000Z
CATEGORIES:Lletres i diàlegs
LOCATION:Biblioteca Martí Rosselló i Lloveras - Carretera de Vilassar de Dalt, 100
ORGANIZER:Biblioteca
DESCRIPTION:A càrrec de Maribel del Molino
URL:https://premiademar.cat/document.php?id=14914
END:VEVENT
END:VCALENDAR