BEGIN:VCALENDAR
VERSION:2.0
PRODID:-//Plone.org//NONSGML plone.app.event//EN
X-WR-TIMEZONE:Europe/Madrid
BEGIN:VEVENT
SUMMARY:Espai de trobada de famílies i nadons
DTSTART;TZID=Europe/Madrid;VALUE=DATE-TIME:20190228T110000
DTEND;TZID=Europe/Madrid;VALUE=DATE-TIME:20190228T120000
DTSTAMP;VALUE=DATE-TIME:20260424T174011Z
UID:1573b1a937a43b313e4cfe02d9173f6c
CREATED;VALUE=DATE-TIME:20190214T000000Z
CATEGORIES:Activitats
LOCATION:Biblioteca Martí Rosselló i Lloveras - Carretera de Vilassar de Dalt, 100
ORGANIZER:Biblioteca
URL:https://premiademar.cat/document.php?id=14936
END:VEVENT
END:VCALENDAR