BEGIN:VCALENDAR
VERSION:2.0
PRODID:-//Plone.org//NONSGML plone.app.event//EN
X-WR-TIMEZONE:Europe/Madrid
BEGIN:VEVENT
SUMMARY:Posem a Caldo! Els Versots al teatre!
DTSTART;TZID=Europe/Madrid;VALUE=DATE-TIME:20190223T200000
DTEND;TZID=Europe/Madrid;VALUE=DATE-TIME:20190223T210000
DTSTAMP;VALUE=DATE-TIME:20260424T041200Z
UID:350576c7aff919722728cf489e78b481
CREATED;VALUE=DATE-TIME:20190223T000000Z
CATEGORIES:Activitats familiars,Cultura popular
LOCATION:Espai l'Amistat - Carrer de Sant Antoni, 60
COMMENT:Col·labora: De Bòlit!
Durada: Es pot endarrerir fins a 30 min.
DESCRIPTION:A continuació del despertar dels Penjaculpes
URL:https://premiademar.cat/document.php?id=15148
END:VEVENT
END:VCALENDAR