BEGIN:VCALENDAR
VERSION:2.0
PRODID:-//Plone.org//NONSGML plone.app.event//EN
X-WR-TIMEZONE:Europe/Madrid
BEGIN:VEVENT
SUMMARY:Festhivern musical tot s'hi val amb Nini, ni nom ni vergonya i els Djs Monka i Porco Rosso
DTSTART;TZID=Europe/Madrid;VALUE=DATE-TIME:20190223T230000
DTEND;TZID=Europe/Madrid;VALUE=DATE-TIME:20190224T000000
DTSTAMP;VALUE=DATE-TIME:20260424T035715Z
UID:82e9da90f6731aa1823648e06c5bcd7e
CREATED;VALUE=DATE-TIME:20190223T000000Z
CATEGORIES:Música
LOCATION:Espai l'Amistat - Carrer de Sant Antoni, 60
COMMENT:Col·labora: De Bòlit!
Preu: Entrada gratuïta
Durada: Es pot endarrerir fins a 15 min.
DESCRIPTION:A continuació del Sopacarrers
URL:https://premiademar.cat/document.php?id=15149
END:VEVENT
END:VCALENDAR