BEGIN:VCALENDAR
VERSION:2.0
PRODID:-//Plone.org//NONSGML plone.app.event//EN
X-WR-TIMEZONE:Europe/Madrid
BEGIN:VEVENT
SUMMARY:Ens funciona la comunicació que fem servir amb els infants i/o adolescents?
DTSTART;TZID=Europe/Madrid;VALUE=DATE-TIME:20190314T120000
DTEND;TZID=Europe/Madrid;VALUE=DATE-TIME:20190314T130000
DTSTAMP;VALUE=DATE-TIME:20260426T025243Z
UID:d19a36724770675bb1ce2a322bdb28ed
CREATED;VALUE=DATE-TIME:20190314T000000Z
CATEGORIES:Conferència
LOCATION:Biblioteca Martí Rosselló i Lloveras - Carretera de Vilassar de Dalt, 100
DESCRIPTION:La xerrada activa
URL:https://premiademar.cat/document.php?id=15163
END:VEVENT
END:VCALENDAR