BEGIN:VCALENDAR
VERSION:2.0
PRODID:-//Plone.org//NONSGML plone.app.event//EN
X-WR-TIMEZONE:Europe/Madrid
BEGIN:VEVENT
SUMMARY:Taller de teatre
DTSTART;TZID=Europe/Madrid;VALUE=DATE-TIME:20190626T103000
DTEND;TZID=Europe/Madrid;VALUE=DATE-TIME:20190626T113000
DTSTAMP;VALUE=DATE-TIME:20260425T060015Z
UID:6573b19100968850fe70e658a262869d
CREATED;VALUE=DATE-TIME:20190304T000000Z
CATEGORIES:Activitats
LOCATION:Biblioteca Martí Rosselló i Lloveras - Carretera de Vilassar de Dalt, 100
COMMENT:Col·labora: Diputació de Barcelona
Preu: Gratuït
Durada: 1,5 h
DESCRIPTION:Adreçat a dones i homes
URL:https://premiademar.cat/document.php?id=15196
END:VEVENT
END:VCALENDAR