BEGIN:VCALENDAR
VERSION:2.0
PRODID:-//Plone.org//NONSGML plone.app.event//EN
X-WR-TIMEZONE:Europe/Madrid
BEGIN:VEVENT
SUMMARY:Formació per a voluntaris del Projecte Radars
DTSTART;TZID=Europe/Madrid;VALUE=DATE-TIME:20190321T160000
DTEND;TZID=Europe/Madrid;VALUE=DATE-TIME:20190321T170000
DTSTAMP;VALUE=DATE-TIME:20260421T115537Z
UID:6a31e829e4cbee6a3f133ad57c9fbdc5
CREATED;VALUE=DATE-TIME:20190321T000000Z
CATEGORIES:Cursos
LOCATION:Locals de la Parròquia de Sant Cristòfol - Carrer de la Rectoria, 17
ORGANIZER:Regidoria de Serveis Socials i Càritas Diocesana de Barcelona
COMMENT:Durada: 4 hores
DESCRIPTION:Activitat formativa oberta a totes les persones que vulguin formar part de l'equip de voluntaris del projecte Radars.
URL:https://premiademar.cat/document.php?id=15317
END:VEVENT
END:VCALENDAR