BEGIN:VCALENDAR
VERSION:2.0
PRODID:-//Plone.org//NONSGML plone.app.event//EN
X-WR-TIMEZONE:Europe/Madrid
BEGIN:VEVENT
SUMMARY:Xerrada: Joc, esport i benestar
DTSTART;TZID=Europe/Madrid;VALUE=DATE-TIME:20190403T170000
DTEND;TZID=Europe/Madrid;VALUE=DATE-TIME:20190403T180000
DTSTAMP;VALUE=DATE-TIME:20260425T060057Z
UID:c9487d85c7563155e4fe8f298ac89afe
CREATED;VALUE=DATE-TIME:20190403T000000Z
CATEGORIES:Conferència
LOCATION:Biblioteca Martí Rosselló i Lloveras - Carretera de Vilassar de Dalt, 100
ORGANIZER:Servei de Rehabilitació Comunitària (SRC) Burriac
COMMENT:Col·labora: Ajuntament de Premià de Mar
DESCRIPTION:Jornada de l'activitat física i la salut
URL:https://premiademar.cat/document.php?id=15373
END:VEVENT
END:VCALENDAR