BEGIN:VCALENDAR
VERSION:2.0
PRODID:-//Plone.org//NONSGML plone.app.event//EN
X-WR-TIMEZONE:Europe/Madrid
BEGIN:VEVENT
SUMMARY:Circuit d'habilitats per a infants i joves
DTSTART;TZID=Europe/Madrid;VALUE=DATE-TIME:20190406T113000
DTEND;TZID=Europe/Madrid;VALUE=DATE-TIME:20190406T123000
DTSTAMP;VALUE=DATE-TIME:20260421T160239Z
UID:4869355e22af5ea3793fdcb76ba2ff13
CREATED;VALUE=DATE-TIME:20190406T000000Z
CATEGORIES:Esports
LOCATION:Parc del Palmar - Carrer d'Enric Borràs, 200
COMMENT:Col·labora: Marina Port Premià
DESCRIPTION:Jornada de l'activitat física i la salut.
URL:https://premiademar.cat/document.php?id=15379
END:VEVENT
END:VCALENDAR