BEGIN:VCALENDAR
VERSION:2.0
PRODID:-//Plone.org//NONSGML plone.app.event//EN
X-WR-TIMEZONE:Europe/Madrid
BEGIN:VEVENT
SUMMARY:Classe exhibició d'estiraments
DTSTART;TZID=Europe/Madrid;VALUE=DATE-TIME:20190406T113000
DTEND;TZID=Europe/Madrid;VALUE=DATE-TIME:20190406T123000
DTSTAMP;VALUE=DATE-TIME:20260421T161326Z
UID:8741438ce1ffac60a3284b6eca3b10b1
CREATED;VALUE=DATE-TIME:20190406T000000Z
CATEGORIES:Esports
LOCATION:Parc del Palmar - Carrer d'Enric Borràs, 200
COMMENT:Col·labora: Marina Port Premià
DESCRIPTION:Jornada de l'activitat física i la salut.
URL:https://premiademar.cat/document.php?id=15380
END:VEVENT
END:VCALENDAR