BEGIN:VCALENDAR
VERSION:2.0
PRODID:-//Plone.org//NONSGML plone.app.event//EN
X-WR-TIMEZONE:Europe/Madrid
BEGIN:VEVENT
SUMMARY:Aperitiu Musical
DTSTART;TZID=Europe/Madrid;VALUE=DATE-TIME:20190519T120000
DTEND;TZID=Europe/Madrid;VALUE=DATE-TIME:20190519T130000
DTSTAMP;VALUE=DATE-TIME:20260423T025348Z
UID:4f3ef0603d1443632fa89675a2df3da6
CREATED;VALUE=DATE-TIME:20190519T000000Z
CATEGORIES:Música
LOCATION:Escola Municipal de Música - Carretera de Vilassar de Dalt, 52-54
ORGANIZER:Escola Municipal de Música de Premià de Mar
DESCRIPTION:Concert d'alumnes de l'Escola de Música.
URL:https://premiademar.cat/document.php?id=15544
END:VEVENT
END:VCALENDAR