BEGIN:VCALENDAR
VERSION:2.0
PRODID:-//Plone.org//NONSGML plone.app.event//EN
X-WR-TIMEZONE:Europe/Madrid
BEGIN:VEVENT
SUMMARY:Ballada de Sardanes amb la Principal de La Bisbal
DTSTART;TZID=Europe/Madrid;VALUE=DATE-TIME:20190519T113000
DTEND;TZID=Europe/Madrid;VALUE=DATE-TIME:20190519T123000
DTSTAMP;VALUE=DATE-TIME:20260423T024953Z
UID:dd1651770f96599984c6d60bffe8c08e
CREATED;VALUE=DATE-TIME:20190519T000000Z
CATEGORIES:Cultura popular,Dansa
LOCATION:Plaça de l'Ajuntament - Plaça Ajuntament, 1
COMMENT:Preu: Gratuït
URL:https://premiademar.cat/document.php?id=15548
END:VEVENT
END:VCALENDAR