BEGIN:VCALENDAR
VERSION:2.0
PRODID:-//Plone.org//NONSGML plone.app.event//EN
X-WR-TIMEZONE:Europe/Madrid
BEGIN:VEVENT
SUMMARY:Jornada de portes obertes amb motiu del dia Internacional dels museus
DTSTART;TZID=Europe/Madrid;VALUE=DATE-TIME:20190519T110000
DTEND;TZID=Europe/Madrid;VALUE=DATE-TIME:20190519T120000
DTSTAMP;VALUE=DATE-TIME:20260423T025521Z
UID:ba2e67adb61401e54f2673ae00a0d02a
CREATED;VALUE=DATE-TIME:20190518T000000Z
CATEGORIES:Activitats familiars,Museus i exposicions
LOCATION:Museu de l'Estampació de Premià de Mar - Joan XXIII, 2-8
ORGANIZER:Museu de l'Estampació
COMMENT:Preu: Entrada lliure
URL:https://premiademar.cat/document.php?id=15558
END:VEVENT
END:VCALENDAR