BEGIN:VCALENDAR
VERSION:2.0
PRODID:-//Plone.org//NONSGML plone.app.event//EN
X-WR-TIMEZONE:Europe/Madrid
BEGIN:VEVENT
SUMMARY:Festa del Barri Can Farrerons
DTSTART;TZID=Europe/Madrid;VALUE=DATE-TIME:20190720T110000
DTEND;TZID=Europe/Madrid;VALUE=DATE-TIME:20190720T120000
DTSTAMP;VALUE=DATE-TIME:20260423T024422Z
UID:fd4c41fd21bba0e9e6366fa6fe83cde9
CREATED;VALUE=DATE-TIME:20190720T000000Z
CATEGORIES:Activitats
LOCATION:Plaça del Dr. Ferran
COMMENT:Col·labora: AV barri Premià Centre
Preu: gratuït
DESCRIPTION:Xocolatada a la plaça del Dr. Ferran
URL:https://premiademar.cat/document.php?id=15886
END:VEVENT
END:VCALENDAR