BEGIN:VCALENDAR
VERSION:2.0
PRODID:-//Plone.org//NONSGML plone.app.event//EN
X-WR-TIMEZONE:Europe/Madrid
BEGIN:VEVENT
SUMMARY:Festa del Barri Can Farrerons
DTSTART;TZID=Europe/Madrid;VALUE=DATE-TIME:20190720T210000
DTEND;TZID=Europe/Madrid;VALUE=DATE-TIME:20190720T220000
DTSTAMP;VALUE=DATE-TIME:20260423T030403Z
UID:c991636fea709465d6e32eecc8f81aff
CREATED;VALUE=DATE-TIME:20190720T000000Z
CATEGORIES:Activitats
LOCATION:Plaça del Dr. Ferran
COMMENT:Col·labora: AV barri Premià Centre
Preu: gratuït
DESCRIPTION:Actuació musical a la plaça del Dr. Ferran
URL:https://premiademar.cat/document.php?id=15889
END:VEVENT
END:VCALENDAR