BEGIN:VCALENDAR
VERSION:2.0
PRODID:-//Plone.org//NONSGML plone.app.event//EN
X-WR-TIMEZONE:Europe/Madrid
BEGIN:VEVENT
SUMMARY:Festa del Barri Can Farrerons
DTSTART;TZID=Europe/Madrid;VALUE=DATE-TIME:20190720T213000
DTEND;TZID=Europe/Madrid;VALUE=DATE-TIME:20190720T223000
DTSTAMP;VALUE=DATE-TIME:20260423T024744Z
UID:23abb9386e055554d5938525a11273ad
CREATED;VALUE=DATE-TIME:20190720T000000Z
CATEGORIES:Activitats
LOCATION:Plaça del Dr. Ferran
COMMENT:Col·labora: AV barri Premià Centre
Preu: gratuït
DESCRIPTION:Botifarrada popular a la plaça del Dr. Ferran
URL:https://premiademar.cat/document.php?id=15890
END:VEVENT
END:VCALENDAR