BEGIN:VCALENDAR
VERSION:2.0
PRODID:-//Plone.org//NONSGML plone.app.event//EN
X-WR-TIMEZONE:Europe/Madrid
BEGIN:VEVENT
SUMMARY:Cinema: Un atardecer en la toscana
DTSTART;TZID=Europe/Madrid;VALUE=DATE-TIME:20190709T190000
DTEND;TZID=Europe/Madrid;VALUE=DATE-TIME:20190709T200000
DTSTAMP;VALUE=DATE-TIME:20260425T145351Z
UID:9b85b2e3f1e82e428723ee81da757344
CREATED;VALUE=DATE-TIME:20190707T000000Z
CATEGORIES:Cinema
LOCATION:Espai l'Amistat - Carrer de Sant Antoni, 60
COMMENT:Preu: 6,50&#8364;
4,50&#8364; (Dilluns dia de l'espectador)
URL:https://premiademar.cat/document.php?id=16015
END:VEVENT
END:VCALENDAR