BEGIN:VCALENDAR
VERSION:2.0
PRODID:-//Plone.org//NONSGML plone.app.event//EN
X-WR-TIMEZONE:Europe/Madrid
BEGIN:VEVENT
SUMMARY:Esclat de colors
DTSTART;TZID=Europe/Madrid;VALUE=DATE-TIME:20190926T000000
DTEND;TZID=Europe/Madrid;VALUE=DATE-TIME:20190926T010000
DTSTAMP;VALUE=DATE-TIME:20260424T204308Z
UID:6e5f9b640c4bb3a6e37d8e74e2ac6e92
CREATED;VALUE=DATE-TIME:20190920T000000Z
CATEGORIES:Museus i exposicions
LOCATION:Centre Cívic - Esperança, 19
ORGANIZER:Grup fotogràfic Argent
COMMENT:Preu: Activitat gratuita
Durada: Del 20 al 26 de setembre
DESCRIPTION:Exposició fotogràfica de Marta Marieges
URL:https://premiademar.cat/document.php?id=16105
END:VEVENT
END:VCALENDAR