BEGIN:VCALENDAR
VERSION:2.0
PRODID:-//Plone.org//NONSGML plone.app.event//EN
X-WR-TIMEZONE:Europe/Madrid
BEGIN:VEVENT
SUMMARY:VIII Trobada d'Agulla i I de manualitats
DTSTART;TZID=Europe/Madrid;VALUE=DATE-TIME:20191019T100000
DTEND;TZID=Europe/Madrid;VALUE=DATE-TIME:20191019T110000
DTSTAMP;VALUE=DATE-TIME:20260424T165321Z
UID:c22ec877108e7c5c0c96bc9c4b40bc99
CREATED;VALUE=DATE-TIME:20191019T000000Z
CATEGORIES:Mostra,Cultura popular
LOCATION:Plaça Nova - Plaça Nova
ORGANIZER:Conex
COMMENT:Col·labora: Ajuntament de Premià de Mar
Preu: Gratuit
Durada: de 10 a 13 hores
DESCRIPTION:Concentració d'associacions d'arreu de Catalunya. Enguany s'inaugura la primera trobada de manualitats.
URL:https://premiademar.cat/document.php?id=16107
END:VEVENT
END:VCALENDAR