BEGIN:VCALENDAR
VERSION:2.0
PRODID:-//Plone.org//NONSGML plone.app.event//EN
X-WR-TIMEZONE:Europe/Madrid
BEGIN:VEVENT
SUMMARY:DES BROSSA'M
DTSTART;TZID=Europe/Madrid;VALUE=DATE-TIME:20190918T173000
DTEND;TZID=Europe/Madrid;VALUE=DATE-TIME:20190918T183000
DTSTAMP;VALUE=DATE-TIME:20260423T044334Z
UID:0c2928b70844c653ea3c22aeadb404d7
CREATED;VALUE=DATE-TIME:20190918T000000Z
CATEGORIES:Activitats
LOCATION:Biblioteca Martí Rosselló i Lloveras - Carretera de Vilassar de Dalt, 100
COMMENT:Preu: Gratuït
DESCRIPTION:Coincidint amb el centenari del seu naixement, farem un taller de creació poètica inspirat en les creacions de Joan Brossa, poeta, dramaturg i artista plàstic català.
URL:https://premiademar.cat/document.php?id=16124
END:VEVENT
END:VCALENDAR