BEGIN:VCALENDAR
VERSION:2.0
PRODID:-//Plone.org//NONSGML plone.app.event//EN
X-WR-TIMEZONE:Europe/Madrid
BEGIN:VEVENT
SUMMARY:Teatre: La reina de la bellesa de Leenane
DTSTART;TZID=Europe/Madrid;VALUE=DATE-TIME:20191019T210000
DTEND;TZID=Europe/Madrid;VALUE=DATE-TIME:20191019T220000
DTSTAMP;VALUE=DATE-TIME:20260426T024547Z
UID:ed565788e1557def934a4ad253920527
CREATED;VALUE=DATE-TIME:20191019T000000Z
CATEGORIES:Teatre i altres espectacles
LOCATION:Espai l'Amistat - Carrer de Sant Antoni, 60
COMMENT:Preu: 20&#8364;
18&#8364; (anticipada o per internet)
DESCRIPTION:Una obra plena d'humor negre que parla sobre la soledat i el pas del temps
URL:https://premiademar.cat/document.php?id=16130
END:VEVENT
END:VCALENDAR