BEGIN:VCALENDAR
VERSION:2.0
PRODID:-//Plone.org//NONSGML plone.app.event//EN
X-WR-TIMEZONE:Europe/Madrid
BEGIN:VEVENT
SUMMARY:Espai de trobada de famílies i nadons
DTSTART;TZID=Europe/Madrid;VALUE=DATE-TIME:20191031T110000
DTEND;TZID=Europe/Madrid;VALUE=DATE-TIME:20191031T120000
DTSTAMP;VALUE=DATE-TIME:20260424T121754Z
UID:ad152d173ade65ef266f7eab8d241dc9
CREATED;VALUE=DATE-TIME:20191003T000000Z
CATEGORIES:Activitats familiars
LOCATION:Biblioteca Martí Rosselló i Lloveras - Carretera de Vilassar de Dalt, 100
ORGANIZER:Biblioteca
URL:https://premiademar.cat/document.php?id=16313
END:VEVENT
END:VCALENDAR