BEGIN:VCALENDAR
VERSION:2.0
PRODID:-//Plone.org//NONSGML plone.app.event//EN
X-WR-TIMEZONE:Europe/Madrid
BEGIN:VEVENT
SUMMARY:Concert de música coral
DTSTART;TZID=Europe/Madrid;VALUE=DATE-TIME:20191012T183000
DTEND;TZID=Europe/Madrid;VALUE=DATE-TIME:20191012T193000
DTSTAMP;VALUE=DATE-TIME:20260424T121708Z
UID:ee018980acaeb10ab2df7a0043b2e8ff
CREATED;VALUE=DATE-TIME:20191012T000000Z
CATEGORIES:Música
LOCATION:Església Evangèlica de Premià de Mar - Carrer de Joan Prim, 131
ORGANIZER:Església Evangèlica de Premià de Mar
COMMENT:Preu: Gratuït
Durada: 1 h.
DESCRIPTION:Recital Coral de l'Església del Redemptor
URL:https://premiademar.cat/document.php?id=16324
END:VEVENT
END:VCALENDAR