BEGIN:VCALENDAR
VERSION:2.0
PRODID:-//Plone.org//NONSGML plone.app.event//EN
X-WR-TIMEZONE:Europe/Madrid
BEGIN:VEVENT
SUMMARY:Mirades
DTSTART;TZID=Europe/Madrid;VALUE=DATE-TIME:20191107T000000
DTEND;TZID=Europe/Madrid;VALUE=DATE-TIME:20191107T010000
DTSTAMP;VALUE=DATE-TIME:20260424T044137Z
UID:d5f5f12ba907fe5beea8057e543fe106
CREATED;VALUE=DATE-TIME:20191101T000000Z
CATEGORIES:Museus i exposicions,Activitats
LOCATION:Centre Cívic - Esperança, 19
ORGANIZER:Grup fotogràfic Argent
COMMENT:Preu: Gratuit
DESCRIPTION:Exposició fotogràfica de Victoria Acien
URL:https://premiademar.cat/document.php?id=16517
END:VEVENT
END:VCALENDAR