BEGIN:VCALENDAR
VERSION:2.0
PRODID:-//Plone.org//NONSGML plone.app.event//EN
X-WR-TIMEZONE:Europe/Madrid
BEGIN:VEVENT
SUMMARY:Club de lectura Novel·la
DTSTART;TZID=Europe/Madrid;VALUE=DATE-TIME:20191205T190000
DTEND;TZID=Europe/Madrid;VALUE=DATE-TIME:20191205T200000
DTSTAMP;VALUE=DATE-TIME:20260425T163701Z
UID:60ecbfcd82534eb5370e66a6e4b165f7
CREATED;VALUE=DATE-TIME:20191205T000000Z
CATEGORIES:Lletres i diàlegs
LOCATION:Biblioteca Martí Rosselló i Lloveras - Carretera de Vilassar de Dalt, 100
COMMENT:Preu: Gratuït
DESCRIPTION:"L'escriptura secreta", de Sebastian Barry
URL:https://premiademar.cat/document.php?id=16730
END:VEVENT
END:VCALENDAR