BEGIN:VCALENDAR
VERSION:2.0
PRODID:-//Plone.org//NONSGML plone.app.event//EN
X-WR-TIMEZONE:Europe/Madrid
BEGIN:VEVENT
SUMMARY:CONTE-TALLER: L'ESCALFOR DEL NADAL
DTSTART;TZID=Europe/Madrid;VALUE=DATE-TIME:20191227T173000
DTEND;TZID=Europe/Madrid;VALUE=DATE-TIME:20191227T183000
DTSTAMP;VALUE=DATE-TIME:20260422T201849Z
UID:7656f6b513baf202b2466cb172d52ef3
CREATED;VALUE=DATE-TIME:20191227T000000Z
CATEGORIES:Activitats familiars
LOCATION:Biblioteca Martí Rosselló i Lloveras - Carretera de Vilassar de Dalt, 100
COMMENT:Preu: Gratuït
DESCRIPTION:Per gaudir, pensar i aprende
URL:https://premiademar.cat/document.php?id=16820
END:VEVENT
END:VCALENDAR