BEGIN:VCALENDAR
VERSION:2.0
PRODID:-//Plone.org//NONSGML plone.app.event//EN
X-WR-TIMEZONE:Europe/Madrid
BEGIN:VEVENT
SUMMARY:Patge reial i recollida de joguines AAVV barri del Gas
DTSTART;TZID=Europe/Madrid;VALUE=DATE-TIME:20191229T100000
DTEND;TZID=Europe/Madrid;VALUE=DATE-TIME:20191229T110000
DTSTAMP;VALUE=DATE-TIME:20260423T175113Z
UID:33038d4bf29ea877fbb07b2dafb244f9
CREATED;VALUE=DATE-TIME:20191229T000000Z
CATEGORIES:Activitats familiars
LOCATION:Plaça del Gas (Salvador Moragues)
ORGANIZER:AAVV barri del Gas
COMMENT:Preu: Gratuït
URL:https://premiademar.cat/document.php?id=16958
END:VEVENT
END:VCALENDAR