BEGIN:VCALENDAR
VERSION:2.0
PRODID:-//Plone.org//NONSGML plone.app.event//EN
X-WR-TIMEZONE:Europe/Madrid
BEGIN:VEVENT
SUMMARY:CINEMA: LA ODISEA DE LOS GILES
DTSTART;TZID=Europe/Madrid;VALUE=DATE-TIME:20191230T210000
DTEND;TZID=Europe/Madrid;VALUE=DATE-TIME:20191230T220000
DTSTAMP;VALUE=DATE-TIME:20260422T201920Z
UID:d15b36c322c332c2d4c7c43acdd15525
CREATED;VALUE=DATE-TIME:20191227T000000Z
CATEGORIES:Cinema
LOCATION:Espai l'Amistat - Carrer de Sant Antoni, 60
COMMENT:Preu: 6,50&#8364;
4,50&#8364; (dilluns, dia de l'espectador)
URL:https://premiademar.cat/document.php?id=17415
END:VEVENT
END:VCALENDAR