BEGIN:VCALENDAR
VERSION:2.0
PRODID:-//Plone.org//NONSGML plone.app.event//EN
X-WR-TIMEZONE:Europe/Madrid
BEGIN:VEVENT
SUMMARY:Hora del conte per a nadons
DTSTART;TZID=Europe/Madrid;VALUE=DATE-TIME:20200123T173000
DTEND;TZID=Europe/Madrid;VALUE=DATE-TIME:20200123T183000
DTSTAMP;VALUE=DATE-TIME:20260425T195101Z
UID:b5a5b6452a61a0536c02e4a24cb5a5df
CREATED;VALUE=DATE-TIME:20200123T000000Z
CATEGORIES:Activitats familiars
LOCATION:Biblioteca Martí Rosselló i Lloveras - Carretera de Vilassar de Dalt, 100
ORGANIZER:Biblioteca
COMMENT:Col·labora: Ballmanetes
Preu: Gratuït
DESCRIPTION:&OpenCurlyDoubleQuote;Ma, me, mi, mo... MÚSICA&CloseCurlyDoubleQuote;, amb Ballmanetes
URL:https://premiademar.cat/document.php?id=17459
END:VEVENT
END:VCALENDAR