BEGIN:VCALENDAR
VERSION:2.0
PRODID:-//Plone.org//NONSGML plone.app.event//EN
X-WR-TIMEZONE:Europe/Madrid
BEGIN:VEVENT
SUMMARY:Chris, el suís
DTSTART;TZID=Europe/Madrid;VALUE=DATE-TIME:20200208T190000
DTEND;TZID=Europe/Madrid;VALUE=DATE-TIME:20200208T200000
DTSTAMP;VALUE=DATE-TIME:20260425T181811Z
UID:df3e0a886bb400c59ecf39301969bdf3
CREATED;VALUE=DATE-TIME:20200202T000000Z
CATEGORIES:Cinema
LOCATION:Patronat Teatre - Josep Paradeda, 26
ORGANIZER:Patronat Teatre
COMMENT:Preu: 4&#8364; general
3&#8364; socis
DESCRIPTION:Documental del Mes
URL:https://premiademar.cat/document.php?id=17463
END:VEVENT
END:VCALENDAR