BEGIN:VCALENDAR
VERSION:2.0
PRODID:-//Plone.org//NONSGML plone.app.event//EN
X-WR-TIMEZONE:Europe/Madrid
BEGIN:VEVENT
SUMMARY:Intercanvi Coral el Sagrer i Coral Mardeveus
DTSTART;TZID=Europe/Madrid;VALUE=DATE-TIME:20200201T123000
DTEND;TZID=Europe/Madrid;VALUE=DATE-TIME:20200201T133000
DTSTAMP;VALUE=DATE-TIME:20260425T195134Z
UID:eace78a52125623cc9c0c651d4865c4a
CREATED;VALUE=DATE-TIME:20200201T000000Z
CATEGORIES:Música
LOCATION:Escola Municipal de Música - Carretera de Vilassar de Dalt, 52-54
ORGANIZER:Escola Municipal de Música de Premià de Mar
URL:https://premiademar.cat/document.php?id=17483
END:VEVENT
END:VCALENDAR