BEGIN:VCALENDAR
VERSION:2.0
PRODID:-//Plone.org//NONSGML plone.app.event//EN
X-WR-TIMEZONE:Europe/Madrid
BEGIN:VEVENT
SUMMARY:Concert de Carnestoltes
DTSTART;TZID=Europe/Madrid;VALUE=DATE-TIME:20200223T180000
DTEND;TZID=Europe/Madrid;VALUE=DATE-TIME:20200223T190000
DTSTAMP;VALUE=DATE-TIME:20260423T211723Z
UID:fd37d8ca41f067594fd58c02269df2c3
CREATED;VALUE=DATE-TIME:20200223T000000Z
CATEGORIES:Música
LOCATION:Plaça Països Catalans - Plaça Països Catalans
ORGANIZER:Escola Municipal de Música de Premià de Mar
URL:https://premiademar.cat/document.php?id=17485
END:VEVENT
END:VCALENDAR