BEGIN:VCALENDAR
VERSION:2.0
PRODID:-//Plone.org//NONSGML plone.app.event//EN
X-WR-TIMEZONE:Europe/Madrid
BEGIN:VEVENT
SUMMARY:Fes un moneder amb un tetrabrick!
DTSTART;TZID=Europe/Madrid;VALUE=DATE-TIME:20200424T173000
DTEND;TZID=Europe/Madrid;VALUE=DATE-TIME:20200424T183000
DTSTAMP;VALUE=DATE-TIME:20260423T072406Z
UID:ec24b8bea120c814230f450a560eed37
CREATED;VALUE=DATE-TIME:20200424T000000Z
CATEGORIES:Activitats familiars,Activitats
LOCATION:https://www.instagram.com/jovesenacciopm/
COMMENT:Preu: Accés lliure en línia
DESCRIPTION:Taller online amb Joves en Acció
URL:https://premiademar.cat/document.php?id=18113
END:VEVENT
END:VCALENDAR