BEGIN:VCALENDAR
VERSION:2.0
PRODID:-//Plone.org//NONSGML plone.app.event//EN
X-WR-TIMEZONE:Europe/Madrid
BEGIN:VEVENT
SUMMARY:Renovació DNI
DTSTART;TZID=Europe/Madrid;VALUE=DATE-TIME:20201204T090000
DTEND;TZID=Europe/Madrid;VALUE=DATE-TIME:20201204T100000
DTSTAMP;VALUE=DATE-TIME:20260421T115430Z
UID:353730c8828da381ed39a2553f00c270
CREATED;VALUE=DATE-TIME:20201204T000000Z
LOCATION:Centre Cívic - Esperança, 19
ORGANIZER:Policia local de Premià de Mar
Cos Nacional de Policia
COMMENT:Col·labora: Ajuntament de Premià de Mar
Durada: De 9 a 13 h
DESCRIPTION:amb cita prèvia del 24 de novembre a la Policia Local
URL:https://premiademar.cat/document.php?id=19445
END:VEVENT
END:VCALENDAR