BEGIN:VCALENDAR
VERSION:2.0
PRODID:-//Plone.org//NONSGML plone.app.event//EN
X-WR-TIMEZONE:Europe/Madrid
BEGIN:VEVENT
SUMMARY:Entrevista a Radio Premià de Mar sobre Salut, menar i dones
DTSTART;TZID=Europe/Madrid;VALUE=DATE-TIME:20210525T101500
DTEND;TZID=Europe/Madrid;VALUE=DATE-TIME:20210525T111500
DTSTAMP;VALUE=DATE-TIME:20260424T175157Z
UID:6cb5e71830b45183a753760f3baf0b39
CREATED;VALUE=DATE-TIME:20210525T000000Z
CATEGORIES:Activitats
LOCATION:Ràdio Premià de Mar
ORGANIZER:Ajuntament de Premià de Mar
COMMENT:Col·labora: Projecte grup de dones SRC Burriac
Preu: Gratuït
DESCRIPTION:Dona, Salut i Esport
URL:https://premiademar.cat/document.php?id=20555
END:VEVENT
END:VCALENDAR