BEGIN:VCALENDAR
VERSION:2.0
PRODID:-//Plone.org//NONSGML plone.app.event//EN
X-WR-TIMEZONE:Europe/Madrid
BEGIN:VEVENT
SUMMARY:Trobada Àgora: "Després de la Covid: i ara què?"
DTSTART;TZID=Europe/Madrid;VALUE=DATE-TIME:20210610T180000
DTEND;TZID=Europe/Madrid;VALUE=DATE-TIME:20210610T190000
DTSTAMP;VALUE=DATE-TIME:20260423T070612Z
UID:e0c31ea3ce8b58dfe7021915990cb080
CREATED;VALUE=DATE-TIME:20210610T000000Z
CATEGORIES:Lletres i diàlegs
LOCATION:Biblioteca Martí Rosselló i Lloveras - Carretera de Vilassar de Dalt, 100
ORGANIZER:Biblioteca
COMMENT:Col·labora: Lluís Soler
Preu: Gratuït
DESCRIPTION:Segona sessió
URL:https://premiademar.cat/document.php?id=20672
END:VEVENT
END:VCALENDAR