BEGIN:VCALENDAR
VERSION:2.0
PRODID:-//Plone.org//NONSGML plone.app.event//EN
X-WR-TIMEZONE:Europe/Madrid
BEGIN:VEVENT
SUMMARY:Hora del conte per a nadons:  &OpenCurlyDoubleQuote;Les formigues també ballen&CloseCurlyDoubleQuote;
DTSTART;TZID=Europe/Madrid;VALUE=DATE-TIME:20211102T153000
DTEND;TZID=Europe/Madrid;VALUE=DATE-TIME:20211102T163000
DTSTAMP;VALUE=DATE-TIME:20260421T230055Z
UID:6eb230000cd00c68ff89320ee3623b67
CREATED;VALUE=DATE-TIME:20211102T000000Z
CATEGORIES:Activitats familiars
LOCATION:Biblioteca Martí Rosselló i Lloveras - Carretera de Vilassar de Dalt, 100
ORGANIZER:Biblioteca Martí Rosselló i Lloveras
COMMENT:Preu: Gratuït
DESCRIPTION:A càrrec d'Ada Cusidó
URL:https://premiademar.cat/document.php?id=21288
END:VEVENT
END:VCALENDAR