BEGIN:VCALENDAR
VERSION:2.0
PRODID:-//Plone.org//NONSGML plone.app.event//EN
X-WR-TIMEZONE:Europe/Madrid
BEGIN:VEVENT
SUMMARY:Presentació del recurs BUKTECA, maletes educadores.
DTSTART;TZID=Europe/Madrid;VALUE=DATE-TIME:20211130T183000
DTEND;TZID=Europe/Madrid;VALUE=DATE-TIME:20211130T193000
DTSTAMP;VALUE=DATE-TIME:20260421T115416Z
UID:d6e6a69f67ca1077b9ccb37316d78056
CREATED;VALUE=DATE-TIME:20211130T000000Z
CATEGORIES:Conferència,Activitats familiars,Activitats
LOCATION:Biblioteca Martí Rosselló i Lloveras - Carretera de Vilassar de Dalt, 100
COMMENT:Preu: Gratuit
DESCRIPTION:Acte de celebració del Dia Internacional de les Ciutats Educadores
URL:https://premiademar.cat/document.php?id=21771
END:VEVENT
END:VCALENDAR