BEGIN:VCALENDAR
VERSION:2.0
PRODID:-//Plone.org//NONSGML plone.app.event//EN
X-WR-TIMEZONE:Europe/Madrid
BEGIN:VEVENT
SUMMARY:Patinatge solidari
DTSTART;TZID=Europe/Madrid;VALUE=DATE-TIME:20211221T170000
DTEND;TZID=Europe/Madrid;VALUE=DATE-TIME:20211221T180000
DTSTAMP;VALUE=DATE-TIME:20260421T171737Z
UID:7986803b39df60192c08dfaea84e7854
CREATED;VALUE=DATE-TIME:20211221T000000Z
CATEGORIES:Esports,Activitats
LOCATION:Pavelló d'Esports - Camí del Mig, 62 08330 Premià de Mar
ORGANIZER:Club Patinatge Artístic Premià de Mar
COMMENT:Col·labora: Ajuntament de Premià de Mar
Preu: Gratuit
DESCRIPTION:Exhibició patinatge artístic a càrrec del Club Patinatge Artístic Premià
URL:https://premiademar.cat/document.php?id=21805
END:VEVENT
END:VCALENDAR