BEGIN:VCALENDAR
VERSION:2.0
PRODID:-//Plone.org//NONSGML plone.app.event//EN
X-WR-TIMEZONE:Europe/Madrid
BEGIN:VEVENT
SUMMARY:Inicia't en l'ús dels dispositius mòbils I
DTSTART;TZID=Europe/Madrid;VALUE=DATE-TIME:20211221T100000
DTEND;TZID=Europe/Madrid;VALUE=DATE-TIME:20211221T110000
DTSTAMP;VALUE=DATE-TIME:20260421T172812Z
UID:2857277af7d8bd10057cb2a477ebdeaf
CREATED;VALUE=DATE-TIME:20211221T000000Z
LOCATION:Biblioteca Martí Rosselló i Lloveras - Carretera de Vilassar de Dalt, 100
ORGANIZER:Biblioteca Martí Rosselló i Lloveras
COMMENT:Preu: Gratuït
Durada: Fins les 12 h
URL:https://premiademar.cat/document.php?id=21858
END:VEVENT
END:VCALENDAR