BEGIN:VCALENDAR
VERSION:2.0
PRODID:-//Plone.org//NONSGML plone.app.event//EN
X-WR-TIMEZONE:Europe/Madrid
BEGIN:VEVENT
SUMMARY:Àgora, espai de debat: Capitalisme verd i decreixement: propostes, reptes i problemes
DTSTART;TZID=Europe/Madrid;VALUE=DATE-TIME:20220201T180000
DTEND;TZID=Europe/Madrid;VALUE=DATE-TIME:20220201T190000
DTSTAMP;VALUE=DATE-TIME:20260420T052651Z
UID:875d57348464cc9b6113fa20824067ef
CREATED;VALUE=DATE-TIME:20220201T000000Z
LOCATION:Biblioteca Martí Rosselló i Lloveras - Carretera de Vilassar de Dalt, 100
ORGANIZER:Biblioteca Martí Rosselló i Lloveras
COMMENT:Col·labora: A càrrec de Lluís Soler
Preu: Gratuït
DESCRIPTION:Inscripció prèvia. Aforament limitat
URL:https://premiademar.cat/document.php?id=21988
END:VEVENT
END:VCALENDAR