BEGIN:VCALENDAR
VERSION:2.0
PRODID:-//Plone.org//NONSGML plone.app.event//EN
X-WR-TIMEZONE:Europe/Madrid
BEGIN:VEVENT
SUMMARY:CINEMA: SIS DIES CORRENTS
DTSTART;TZID=Europe/Madrid;VALUE=DATE-TIME:20220207T173000
DTEND;TZID=Europe/Madrid;VALUE=DATE-TIME:20220207T183000
DTSTAMP;VALUE=DATE-TIME:20260420T052827Z
UID:6baf79d04d921074c6d829ad8538911f
CREATED;VALUE=DATE-TIME:20220205T000000Z
CATEGORIES:Cinema
LOCATION:Espai l'Amistat - Carrer de Sant Antoni, 60
COMMENT:Preu: 6,50&#8364;
4,50&#8364; (dilluns, dia de l'espectador)
URL:https://premiademar.cat/document.php?id=22061
END:VEVENT
END:VCALENDAR