BEGIN:VCALENDAR
VERSION:2.0
PRODID:-//Plone.org//NONSGML plone.app.event//EN
X-WR-TIMEZONE:Europe/Madrid
BEGIN:VEVENT
SUMMARY:Del sol a la lluna: jocs de falda i cançons per als nadons
DTSTART;TZID=Europe/Madrid;VALUE=DATE-TIME:20220602T173000
DTEND;TZID=Europe/Madrid;VALUE=DATE-TIME:20220602T183000
DTSTAMP;VALUE=DATE-TIME:20260424T171714Z
UID:9efd6557e2fc736a07aa8ac77262497b
CREATED;VALUE=DATE-TIME:20220602T000000Z
CATEGORIES:Activitats familiars
LOCATION:Biblioteca Martí Rosselló i Lloveras - Carretera de Vilassar de Dalt, 100
ORGANIZER:Biblioteca Martí Rosselló i Lloveras
COMMENT:Preu: Gratuït
DESCRIPTION:A càrrec de Carmina Rabassedas Pagès
URL:https://premiademar.cat/document.php?id=22690
END:VEVENT
END:VCALENDAR