BEGIN:VCALENDAR
VERSION:2.0
PRODID:-//Plone.org//NONSGML plone.app.event//EN
X-WR-TIMEZONE:Europe/Madrid
BEGIN:VEVENT
SUMMARY:Visita guiada a l'exposició permanent del Museu
DTSTART;TZID=Europe/Madrid;VALUE=DATE-TIME:20220619T120000
DTEND;TZID=Europe/Madrid;VALUE=DATE-TIME:20220619T130000
DTSTAMP;VALUE=DATE-TIME:20260421T132636Z
UID:6f165a66cbb4e727522e51fd62d9daa6
CREATED;VALUE=DATE-TIME:20220619T000000Z
CATEGORIES:Museus i exposicions,Activitats
LOCATION:Museu de l'Estampació de Premià de Mar - Joan XXIII, 2-8
ORGANIZER:Museu de l'Estampació
COMMENT:Preu: 4&euro;/persona
Durada: Duració: 1 hora
URL:https://premiademar.cat/document.php?id=22785
END:VEVENT
END:VCALENDAR