BEGIN:VCALENDAR
VERSION:2.0
PRODID:-//Plone.org//NONSGML plone.app.event//EN
X-WR-TIMEZONE:Europe/Madrid
BEGIN:VEVENT
SUMMARY:Festa Radars
DTSTART;TZID=Europe/Madrid;VALUE=DATE-TIME:20220612T100000
DTEND;TZID=Europe/Madrid;VALUE=DATE-TIME:20220612T110000
DTSTAMP;VALUE=DATE-TIME:20260424T153436Z
UID:7b1d7c73e501495b0e9f2c25437d6266
CREATED;VALUE=DATE-TIME:20220612T000000Z
CATEGORIES:Mostra,Activitats familiars,Música,Activitats
LOCATION:Plaça Nova - Plaça Nova
ORGANIZER:RADARS
COMMENT:Col·labora: Ajuntament de Premià
AAVV Aveca
CONEX
Can Manent
Consell Sènior
Vila Clavellina
Comerç Premià
Preu: gratüit
Durada: Fins les 13.30 h
DESCRIPTION:per a la gent gran
URL:https://premiademar.cat/document.php?id=22793
END:VEVENT
END:VCALENDAR