BEGIN:VCALENDAR
VERSION:2.0
PRODID:-//Plone.org//NONSGML plone.app.event//EN
X-WR-TIMEZONE:Europe/Madrid
BEGIN:VEVENT
SUMMARY:Taller familiar de collage
DTSTART;TZID=Europe/Madrid;VALUE=DATE-TIME:20220612T113000
DTEND;TZID=Europe/Madrid;VALUE=DATE-TIME:20220612T123000
DTSTAMP;VALUE=DATE-TIME:20260424T190043Z
UID:1c40056eb7ab313a8dea5af66c4267d4
CREATED;VALUE=DATE-TIME:20220612T000000Z
CATEGORIES:Museus i exposicions,Activitats
LOCATION:Museu de l'Estampació de Premià de Mar - Joan XXIII, 2-8
ORGANIZER:Museu de l'Estampació
COMMENT:Col·labora: Alma Larroca, Mia Carosia
Preu: Gratuït
Durada: 1 h
DESCRIPTION:Activitat complementària a l'exposició temporal "A través del espejo" de Mia Carosia i Alma Larroca.
URL:https://premiademar.cat/document.php?id=22805
END:VEVENT
END:VCALENDAR