BEGIN:VCALENDAR
VERSION:2.0
PRODID:-//Plone.org//NONSGML plone.app.event//EN
X-WR-TIMEZONE:Europe/Madrid
BEGIN:VEVENT
SUMMARY:10a Mostra de Graffiti
DTSTART;TZID=Europe/Madrid;VALUE=DATE-TIME:20220612T110000
DTEND;TZID=Europe/Madrid;VALUE=DATE-TIME:20220612T120000
DTSTAMP;VALUE=DATE-TIME:20260424T171841Z
UID:0b92bbc61066412789e732062e7ea87b
CREATED;VALUE=DATE-TIME:20220612T000000Z
CATEGORIES:Mostra
LOCATION:Gran Via (entre els carrers Marina i de la Plaça) i Marina (entre els carrers Torres i Bages i Gran Via)
COMMENT:Preu: Gratuït
Durada: D'11 h a 19 h
URL:https://premiademar.cat/document.php?id=22816
END:VEVENT
END:VCALENDAR