BEGIN:VCALENDAR
VERSION:2.0
PRODID:-//Plone.org//NONSGML plone.app.event//EN
X-WR-TIMEZONE:Europe/Madrid
BEGIN:VEVENT
SUMMARY:Punt d'informació LGBTI
DTSTART;TZID=Europe/Madrid;VALUE=DATE-TIME:20220628T170000
DTEND;TZID=Europe/Madrid;VALUE=DATE-TIME:20220628T180000
DTSTAMP;VALUE=DATE-TIME:20260424T104243Z
UID:d249b3c6e3b265e8d3f08587b2e9020e
CREATED;VALUE=DATE-TIME:20220628T000000Z
CATEGORIES:Activitats
LOCATION:Plaça Països Catalans - Plaça Països Catalans
COMMENT:Preu: Gratuït
Durada: Fins les 20 h
DESCRIPTION:28 Juny Dia Internacional Pels Drets del Col·lectiu LGTBI+
URL:https://premiademar.cat/document.php?id=23009
END:VEVENT
END:VCALENDAR